BEGIN:VCALENDAR
VERSION:2.0
PRODID:-//Corstorphine Craigsbank Church - ECPv6.15.20//NONSGML v1.0//EN
CALSCALE:GREGORIAN
METHOD:PUBLISH
X-WR-CALNAME:Corstorphine Craigsbank Church
X-ORIGINAL-URL:http://craigsbankchurch.org.uk
X-WR-CALDESC:Events for Corstorphine Craigsbank Church
REFRESH-INTERVAL;VALUE=DURATION:PT1H
X-Robots-Tag:noindex
X-PUBLISHED-TTL:PT1H
BEGIN:VTIMEZONE
TZID:UTC
BEGIN:STANDARD
TZOFFSETFROM:+0000
TZOFFSETTO:+0000
TZNAME:UTC
DTSTART:20210101T000000
END:STANDARD
END:VTIMEZONE
BEGIN:VEVENT
DTSTART;TZID=UTC:20220929T143000
DTEND;TZID=UTC:20220929T160000
DTSTAMP:20260419T120636
CREATED:20220923T180010Z
LAST-MODIFIED:20220923T180152Z
UID:1452-1664461800-1664467200@craigsbankchurch.org.uk
SUMMARY:Fellowship
DESCRIPTION:The Fellowship Group will resume on Thursday 29 September at 2.30pm at East Craigs. Tea and coffee and blethers\, with a bit of music\, open to everyone. The group will then meet again every fortnight thereafter through October and November. Contact Julie Wilkinson for more information
URL:http://craigsbankchurch.org.uk/event/fellowship-5/
LOCATION:East Craigs Church Centre\, 8 Bughtlin Market\, East Craigs\, Edinburgh\, EH12 8XP\,
CATEGORIES:Afternoon gathering
ATTACH;FMTTYPE=image/png:http://craigsbankchurch.org.uk/wp-content/uploads/2021/02/Giving-colour.png
END:VEVENT
END:VCALENDAR